Workbook

Sheet 総括表
B1: 令和4年度 財政状況資料集
B2: 総括表（市町村）
B3: 都道府県名 | L3: 愛媛県 | W3: 市町村類型 | AC3: Ⅲ－２ | AM3: 指定団体等の指定状況 | AY3: 区分 | BN3: 令和4年度(千円) | BV3: 令和3年度(千円) | CD3: 区分 | CT3: 令和4年度(千円･％) | DB3: 令和3年度(千円･％)
AY4: 歳入総額 | BN4: 59447456 | BV4: 57661953 | CD4: 実質収支比率 | CT4: 13.8 | DB4: 12.9
AM5: 財政健全化等 | AU5: × | AY5: 歳出総額 | BN5: 55253057 | BV5: 53822004 | CD5: 経常収支比率 | CT5: 89.2 | DB5: 82.4
B6: 市町村名 | L6: 西条市 | W6: 地方交付税種地 | AC6: 1-3 | AM6: 財源超過 | AU6: × | AY6: 歳入歳出差引 | BN6: 4194399 | BV6: 3839949 | CD6: (※1) | CT6: 89.2 | DB6: 86.1
AM7: 首都 | AU7: × | AY7: 翌年度に繰越すべき財源 | BN7: 197750 | BV7: 41559 | CD7: 標準財政規模 | CT7: 28883930 | DB7: 29453096
AM8: 近畿 | AU8: × | AY8: 実質収支 | BN8: 3996649 | BV8: 3798390 | CD8: 財政力指数 | CT8: 0.63 | DB8: 0.64
B9: 人口 | L9: 令和2年国調(人) | R9: 104791 | W9: 産業構造 (※5) | AM9: 中部 | AU9: × | AY9: 単年度収支 | BN9: 198259 | BV9: 741094 | CD9: 公債費負担比率 | CT9: 12.8 | DB9: 12
L10: 平成27年国調(人) | R10: 108174 | AM10: 過疎 | AU10: × | AY10: 積立金 | BN10: 2101567 | BV10: 2501268 | CD10: 健全化判断比率
L11: 増減率 (％) | R11: -3.1 | AM11: 山振 | AU11: ○ | AY11: 繰上償還金 | BN11: 0 | BV11: 0 | CD11: 実質赤字比率 | CT11: - | DB11: -
B12: 住民基本台帳人口 (※7) | L12: 令05.01.01(人) | R12: 105616 | W12: 区分 | AC12: 令和2年国調 | AH12: 平成27年国調 | AM12: 低開発 | AU12: × | AY12: 積立金取崩し額 | BN12: 2100000 | BV12: 1411348 | CD12: 連結実質赤字比率 | CT12: - | DB12: -
M13: うち日本人(人) | R13: 104214 | W13: 第1次 | AC13: 3413 | AH13: 3811 | AM13: 指数表選定 | AU13: ○ | AY13: 実質単年度収支 | BN13: 199826 | BV13: 1831014 | CD13: 実質公債費比率 | CT13: 7.1 | DB13: 6.5
L14: 令04.01.01(人) | R14: 106842 | AC14: 7 | AH14: 7.7 | CD14: 将来負担比率 | CT14: 51.4 | DB14: 55.1
M15: うち日本人(人) | R15: 105616 | W15: 第2次 | AC15: 16006 | AH15: 16186 | AY15: 基準財政収入額 | BN15: 14997099 | BV15: 14079232 | CD15: 資金不足比率 (※4)
L16: 増減率 (％) | R16: -1.1 | AC16: 32.8 | AH16: 32.5 | AY16: 基準財政需要額 | BN16: 24206765 | BV16: 23319728
M17: うち日本人(％) | R17: -1.3 | W17: 第3次 | AC17: 29358 | AH17: 29752 | AY17: 標準税収入額等 | BN17: 19079686 | BV17: 17870307
B18: 面積 (k㎡) | L18: 510.04 | AC18: 60.2 | AH18: 59.8 | AY18: 経常経費充当一般財源等 | BN18: 25611130 | BV18: 24895239
B19: 人口密度 (人/k㎡) | L19: 205 | AY19: 歳入一般財源等 | BN19: 39228830 | BV19: 38135001
B20: 世帯数 (世帯) | L20: 45193
B21: 職員の状況 (※8)
B22: 特別職等 | E22: 区分 | L22: 定数 | Q22: 1人あたり平均 給料月額(百円) | W22: 一般職員等(※6) | Z22: 区分 | AH22: 職員数 (人) | AM22: 給料月額 (百円) | AS22: 1人あたり平均 給料月額(百円) | AY22: 地方債現在高 | BN22: 60566035 | BV22: 61639045
AY23: うち公的資金 | BN23: 39000824 | BV23: 41096846
E24: 市区町村長 | L24: 1 | Q24: 9130 | Z24: 一般職員 | AH24: 867 | AM24: 2555916 | AS24: 2948 | AY24: 地方債現在高（臨時財政対策債除き） | BN24: 41379693 | BV24: 40674349
E25: 副市区町村長 | L25: 2 | Q25: 7210 | Z25: うち消防職員 | AH25: 154 | AM25: 423654 | AS25: 2751 | AY25: 債務負担行為額（支出予定額） | BN25: 5318715 | BV25: 9128918
E26: 教育長 | L26: 1 | Q26: 6020 | Z26: うち技能労務職員 | AH26: 36 | AM26: 104292 | AS26: 2897 | AY26: 収益事業収入 | BN26: - | BV26: -
E27: 議会議長 | L27: 1 | Q27: 4560 | Z27: 教育公務員 | AH27: 15 | AM27: 52770 | AS27: 3518 | AY27: 土地開発基金現在高 | BN27: 1050295 | BV27: 1550243
E28: 議会副議長 | L28: 1 | Q28: 3930 | Z28: 臨時職員 | AH28: - | AM28: - | AS28: - | AY28: 積立金 現在高 | BC28: 財政調整基金 | BN28: 5647046 | BV28: 5645479
E29: 議会議員 | L29: 26 | Q29: 3660 | Z29: 合計 | AH29: 882 | AM29: 2608686 | AS29: 2958 | BC29: 減債基金 | BN29: 3185844 | BV29: 3314300
W30: ラスパイレス指数 | AH30: 94.4 | BC30: その他特定目的基金 | BN30: 5032596 | BV30: 4495114
C32: 一般会計等の一覧 | U32: 事業会計の一覧 | AM32: 公営企業（法適）の一覧 | BE32: 公営企業（法非適）の一覧 | BW32: 関係する一部事務組合等一覧 | CO32: 地方公社・第三セクター等一覧
C33: 項番 | E33: 会計名 | U33: 項番 | W33: 会計名 | AM33: 項番 | AO33: 会計名 | BE33: 項番 | BG33: 会計名 | BW33: 項番 | BY33: 組合等名 | CO33: 項番 | CQ33: 団体名 | DG33: (※3)
C34: =IF(E34="","",1) -> 1 | E34: =IF('各会計、関係団体の財政状況及び健全化判断比率'!B7="","",'各会計、関係団体の財政状況及び健全化判断比率'!B7) -> 一般会計 | U34: =IF(W34="","",MAX(C34:D43)+1) -> 5 | W34: =IF('各会計、関係団体の財政状況及び健全化判断比率'!B28="","",'各会計、関係団体の財政状況及び健全化判断比率'!B28) -> 国民健康保険特別会計 | AM34: =IF(AO34="","",MAX(C34:D43,U34:V43)+1) -> 8 | AO34: =IF('各会計、関係団体の財政状況及び健全化判断比率'!B31="","",'各会計、関係団体の財政状況及び健全化判断比率'!B31) -> 水道事業会計 | BE34: =IF(BG34="","",MAX(C34:D43,U34:V43,AM34:AN43)+1) -> 11 | BG34: =IF('各会計、関係団体の財政状況及び健全化判断比率'!B34="","",'各会計、関係団体の財政状況及び健全化判断比率'!B34) -> 港湾上屋事業特別会計 | BW34: =IF(BY34="","",MAX(C34:D43,U34:V43,AM34:AN43,BE34:BF43)+1) -> 14 | BY34: =IF('各会計、関係団体の財政状況及び健全化判断比率'!B68="","",'各会計、関係団体の財政状況及び健全化判断比率'!B68) -> 愛媛県市町総合事務組合（消防補填事業分） | CO34: =IF(CQ34="","",MAX(C34:D43,U34:V43,AM34:AN43,BE34:BF43,BW34:BX43)+1) -> 18 | CQ34: =IF('各会計、関係団体の財政状況及び健全化判断比率'!BS7="","",'各会計、関係団体の財政状況及び健全化判断比率'!BS7) -> 西条市産業情報支援センター | DG34: =IF('各会計、関係団体の財政状況及び健全化判断比率'!BR7="","",'各会計、関係団体の財政状況及び健全化判断比率'!BR7)
C35: =IF(E35="","",C34+1) -> 2 | E35: =IF('各会計、関係団体の財政状況及び健全化判断比率'!B8="","",'各会計、関係団体の財政状況及び健全化判断比率'!B8) -> ひうち地域振興整備事業特別会計 | U35: =IF(W35="","",U34+1) -> 6 | W35: =IF('各会計、関係団体の財政状況及び健全化判断比率'!B29="","",'各会計、関係団体の財政状況及び健全化判断比率'!B29) -> 介護保険特別会計 | AM35: =IF(AO35="","",AM34+1) -> 9 | AO35: =IF('各会計、関係団体の財政状況及び健全化判断比率'!B32="","",'各会計、関係団体の財政状況及び健全化判断比率'!B32) -> 病院事業会計 | BE35: =IF(BG35="","",BE34+1) -> 12 | BG35: =IF('各会計、関係団体の財政状況及び健全化判断比率'!B35="","",'各会計、関係団体の財政状況及び健全化判断比率'!B35) -> 小松地域交流事業特別会計 | BW35: =IF(BY35="","",BW34+1) -> 15 | BY35: =IF('各会計、関係団体の財政状況及び健全化判断比率'!B69="","",'各会計、関係団体の財政状況及び健全化判断比率'!B69) -> 愛媛県地方税滞納整理機構 | CO35: =IF(CQ35="","",CO34+1) -> 19 | CQ35: =IF('各会計、関係団体の財政状況及び健全化判断比率'!BS8="","",'各会計、関係団体の財政状況及び健全化判断比率'!BS8) -> 西条市スポーツ協会 | DG35: =IF('各会計、関係団体の財政状況及び健全化判断比率'!BR8="","",'各会計、関係団体の財政状況及び健全化判断比率'!BR8)
C36: =IF(E36="","",C35+1) -> 3 | E36: =IF('各会計、関係団体の財政状況及び健全化判断比率'!B9="","",'各会計、関係団体の財政状況及び健全化判断比率'!B9) -> 土地開発事業特別会計 | U36: =IF(W36="","",U35+1) -> 7 | W36: =IF('各会計、関係団体の財政状況及び健全化判断比率'!B30="","",'各会計、関係団体の財政状況及び健全化判断比率'!B30) -> 後期高齢者医療保険特別会計 | AM36: =IF(AO36="","",AM35+1) -> 10 | AO36: =IF('各会計、関係団体の財政状況及び健全化判断比率'!B33="","",'各会計、関係団体の財政状況及び健全化判断比率'!B33) -> 公共下水道事業会計 | BE36: =IF(BG36="","",BE35+1) -> 13 | BG36: =IF('各会計、関係団体の財政状況及び健全化判断比率'!B36="","",'各会計、関係団体の財政状況及び健全化判断比率'!B36) -> 本谷温泉事業特別会計 | BW36: =IF(BY36="","",BW35+1) -> 16 | BY36: =IF('各会計、関係団体の財政状況及び健全化判断比率'!B70="","",'各会計、関係団体の財政状況及び健全化判断比率'!B70) -> 愛媛県後期高齢者医療広域連合（一般会計） | CO36: =IF(CQ36="","",CO35+1) -> 20 | CQ36: =IF('各会計、関係団体の財政状況及び健全化判断比率'!BS9="","",'各会計、関係団体の財政状況及び健全化判断比率'!BS9) -> 西条市土地開発公社 | DG36: =IF('各会計、関係団体の財政状況及び健全化判断比率'!BR9="","",'各会計、関係団体の財政状況及び健全化判断比率'!BR9)
C37: =IF(E37="","",C36+1) -> 4 | E37: =IF('各会計、関係団体の財政状況及び健全化判断比率'!B10="","",'各会計、関係団体の財政状況及び健全化判断比率'!B10) -> 畑地かん水事業特別会計 | U37: =IF(W37="","",U36+1) | AM37: =IF(AO37="","",AM36+1) | BE37: =IF(BG37="","",BE36+1) | BW37: =IF(BY37="","",BW36+1) -> 17 | BY37: =IF('各会計、関係団体の財政状況及び健全化判断比率'!B71="","",'各会計、関係団体の財政状況及び健全化判断比率'!B71) -> 愛媛県後期高齢者医療広域連合（後期高齢者医療特別会計） | CO37: =IF(CQ37="","",CO36+1) -> 21 | CQ37: =IF('各会計、関係団体の財政状況及び健全化判断比率'!BS10="","",'各会計、関係団体の財政状況及び健全化判断比率'!BS10) -> 佐伯記念育英会 | DG37: =IF('各会計、関係団体の財政状況及び健全化判断比率'!BR10="","",'各会計、関係団体の財政状況及び健全化判断比率'!BR10)
C38: =IF(E38="","",C37+1) | E38: =IF('各会計、関係団体の財政状況及び健全化判断比率'!B11="","",'各会計、関係団体の財政状況及び健全化判断比率'!B11) | U38: =IF(W38="","",U37+1) | AM38: =IF(AO38="","",AM37+1) | BE38: =IF(BG38="","",BE37+1) | BW38: =IF(BY38="","",BW37+1) | BY38: =IF('各会計、関係団体の財政状況及び健全化判断比率'!B72="","",'各会計、関係団体の財政状況及び健全化判断比率'!B72) | CO38: =IF(CQ38="","",CO37+1) -> 22 | CQ38: =IF('各会計、関係団体の財政状況及び健全化判断比率'!BS11="","",'各会計、関係団体の財政状況及び健全化判断比率'!BS11) -> ソラヤマいしづち | DG38: =IF('各会計、関係団体の財政状況及び健全化判断比率'!BR11="","",'各会計、関係団体の財政状況及び健全化判断比率'!BR11)
C39: =IF(E39="","",C38+1) | E39: =IF('各会計、関係団体の財政状況及び健全化判断比率'!B12="","",'各会計、関係団体の財政状況及び健全化判断比率'!B12) | U39: =IF(W39="","",U38+1) | AM39: =IF(AO39="","",AM38+1) | BE39: =IF(BG39="","",BE38+1) | BW39: =IF(BY39="","",BW38+1) | BY39: =IF('各会計、関係団体の財政状況及び健全化判断比率'!B73="","",'各会計、関係団体の財政状況及び健全化判断比率'!B73) | CO39: =IF(CQ39="","",CO38+1) | CQ39: =IF('各会計、関係団体の財政状況及び健全化判断比率'!BS12="","",'各会計、関係団体の財政状況及び健全化判断比率'!BS12) | DG39: =IF('各会計、関係団体の財政状況及び健全化判断比率'!BR12="","",'各会計、関係団体の財政状況及び健全化判断比率'!BR12)
C40: =IF(E40="","",C39+1) | E40: =IF('各会計、関係団体の財政状況及び健全化判断比率'!B13="","",'各会計、関係団体の財政状況及び健全化判断比率'!B13) | U40: =IF(W40="","",U39+1) | AM40: =IF(AO40="","",AM39+1) | BE40: =IF(BG40="","",BE39+1) | BW40: =IF(BY40="","",BW39+1) | BY40: =IF('各会計、関係団体の財政状況及び健全化判断比率'!B74="","",'各会計、関係団体の財政状況及び健全化判断比率'!B74) | CO40: =IF(CQ40="","",CO39+1) | CQ40: =IF('各会計、関係団体の財政状況及び健全化判断比率'!BS13="","",'各会計、関係団体の財政状況及び健全化判断比率'!BS13) | DG40: =IF('各会計、関係団体の財政状況及び健全化判断比率'!BR13="","",'各会計、関係団体の財政状況及び健全化判断比率'!BR13)
C41: =IF(E41="","",C40+1) | E41: =IF('各会計、関係団体の財政状況及び健全化判断比率'!B14="","",'各会計、関係団体の財政状況及び健全化判断比率'!B14) | U41: =IF(W41="","",U40+1) | AM41: =IF(AO41="","",AM40+1) | BE41: =IF(BG41="","",BE40+1) | BW41: =IF(BY41="","",BW40+1) | BY41: =IF('各会計、関係団体の財政状況及び健全化判断比率'!B75="","",'各会計、関係団体の財政状況及び健全化判断比率'!B75) | CO41: =IF(CQ41="","",CO40+1) | CQ41: =IF('各会計、関係団体の財政状況及び健全化判断比率'!BS14="","",'各会計、関係団体の財政状況及び健全化判断比率'!BS14) | DG41: =IF('各会計、関係団体の財政状況及び健全化判断比率'!BR14="","",'各会計、関係団体の財政状況及び健全化判断比率'!BR14)
...

Sheet 普通会計の状況
DH1: 令和4年度 | DP1: 愛媛県西条市
B2: (1) 普通会計の状況（市町村）
B3: 歳入の状況（単位 千円・％） | AP3: 地方税の状況（単位 千円・％） | CD3: 歳出の状況（単位 千円・％）
B4: 区分 | R4: 決算額 | Z4: 構成比 | AD4: 経常一般財源等 | AL4: 構成比 | AP4: 区分 | BG4: 収入済額 | BO4: 構成比 | BS4: 超過課税分 | CD4: 目的別歳出の状況（単位 千円・％）
B5: 地方税 | R5: 15894260 | Z5: 26.7 | AD5: 15894260 | AL5: 55.4 | AP5: 普通税 | BG5: 15889077 | BO5: 100 | BS5: 292819 | CD5: 区分 | CR5: 決算額 (A) | CZ5: 構成比 | DD5: (A)のうち普通建設事業費 | DQ5: (A)のうち充当一般財源等
B6: 地方譲与税 | R6: 439472 | Z6: 0.7 | AD6: 439472 | AL6: 1.5 | AP6: 法定普通税 | BG6: 15889077 | BO6: 100 | BS6: 292819 | CD6: 議会費 | CR6: 288610 | CZ6: 0.5 | DD6: - | DQ6: 288610
B7: 利子割交付金 | R7: 10903 | Z7: 0 | AD7: 10903 | AL7: 0 | AP7: 市町村民税 | BG7: 5949228 | BO7: 37.4 | BS7: 292819 | CD7: 総務費 | CR7: 7636554 | CZ7: 13.8 | DD7: 134452 | DQ7: 7056675
B8: 配当割交付金 | R8: 65341 | Z8: 0.1 | AD8: 65341 | AL8: 0.2 | AP8: 個人均等割 | BG8: 180108 | BO8: 1.1 | BS8: - | CD8: 民生費 | CR8: 19784321 | CZ8: 35.8 | DD8: 154373 | DQ8: 9477884
B9: 株式等譲渡所得割交付金 | R9: 53715 | Z9: 0.1 | AD9: 53715 | AL9: 0.2 | AP9: 所得割 | BG9: 4460939 | BO9: 28.1 | BS9: - | CD9: 衛生費 | CR9: 7234727 | CZ9: 13.1 | DD9: 3360110 | DQ9: 2944359
B10: 分離課税所得割交付金 | R10: - | Z10: - | AD10: - | AL10: - | AP10: 法人均等割 | BG10: 306391 | BO10: 1.9 | BS10: - | CD10: 労働費 | CR10: 185546 | CZ10: 0.3 | DD10: - | DQ10: 16521
B11: 地方消費税交付金 | R11: 2552677 | Z11: 4.3 | AD11: 2552677 | AL11: 8.9 | AP11: 法人税割 | BG11: 1001790 | BO11: 6.3 | BS11: 292819 | CD11: 農林水産業費 | CR11: 1839247 | CZ11: 3.3 | DD11: 739688 | DQ11: 868443
B12: ゴルフ場利用税交付金 | R12: 1847 | Z12: 0 | AD12: 1847 | AL12: 0 | AP12: 固定資産税 | BG12: 8647277 | BO12: 54.4 | BS12: - | CD12: 商工費 | CR12: 1919607 | CZ12: 3.5 | DD12: 8600 | DQ12: 1245199
B13: 特別地方消費税交付金 | R13: - | Z13: - | AD13: - | AL13: - | AP13: うち純固定資産税 | BG13: 8618441 | BO13: 54.2 | BS13: - | CD13: 土木費 | CR13: 4295628 | CZ13: 7.8 | DD13: 1914531 | DQ13: 3190909
B14: 自動車取得税交付金 | R14: - | Z14: - | AD14: - | AL14: - | AP14: 軽自動車税 | BG14: 446526 | BO14: 2.8 | BS14: - | CD14: 消防費 | CR14: 1583026 | CZ14: 2.9 | DD14: 300515 | DQ14: 1338550
B15: 軽油引取税交付金 | R15: - | Z15: - | AD15: - | AL15: - | AP15: 市町村たばこ税 | BG15: 846046 | BO15: 5.3 | BS15: - | CD15: 教育費 | CR15: 5249594 | CZ15: 9.5 | DD15: 1394422 | DQ15: 3579556
B16: 自動車税環境性能割交付金 | R16: 33004 | Z16: 0.1 | AD16: 33004 | AL16: 0.1 | AP16: 鉱産税 | BG16: - | BO16: - | BS16: - | CD16: 災害復旧費 | CR16: 29948 | CZ16: 0.1 | DD16: - | DQ16: 8571
B17: 法人事業税交付金 | R17: 247327 | Z17: 0.4 | AD17: 247327 | AL17: 0.9 | AP17: 特別土地保有税 | BG17: - | BO17: - | BS17: - | CD17: 公債費 | CR17: 5206249 | CZ17: 9.4 | DD17: - | DQ17: 5019154
B18: 地方特例交付金等 | R18: 119826 | Z18: 0.2 | AD18: 119826 | AL18: 0.4 | AP18: 法定外普通税 | BG18: - | BO18: - | BS18: - | CD18: 諸支出金 | CR18: - | CZ18: - | DD18: - | DQ18: -
B19: 個人住民税減収補塡特例交付金 | R19: 110469 | Z19: 0.2 | AD19: 110469 | AL19: 0.4 | AP19: 目的税 | BG19: 5183 | BO19: 0 | BS19: - | CD19: 前年度繰上充用金 | CR19: - | CZ19: - | DD19: - | DQ19: -
B20: 新型コロナウイルス感染症対策地方税減収補塡特別交付金 | R20: 9357 | Z20: 0 | AD20: 9357 | AL20: 0 | AP20: 法定目的税 | BG20: 5183 | BO20: 0 | BS20: - | CD20: 歳出合計 | CR20: 55253057 | CZ20: 100 | DD20: 8006691 | DQ20: 35034431
B21: 地方交付税 | R21: 10347469 | Z21: 17.4 | AD21: 9228329 | AL21: 32.1 | AP21: 入湯税 | BG21: 5183 | BO21: 0 | BS21: -
B22: 普通交付税 | R22: 9228329 | Z22: 15.5 | AD22: 9228329 | AL22: 32.1 | AP22: 事業所税 | BG22: - | BO22: - | BS22: - | CD22: 性質別歳出の状況（単位 千円・％）
B23: 特別交付税 | R23: 1119140 | Z23: 1.9 | AD23: - | AL23: - | AP23: 都市計画税 | BG23: - | BO23: - | BS23: - | CD23: 区分 | CR23: 決算額 | CZ23: 構成比 | DD23: 充当一般財源等 | DL23: 経常経費充当一般財源等 | DW23: 経常収支比率
B24: 震災復興特別交付税 | R24: - | Z24: - | AD24: - | AL24: - | AP24: 水利地益税等 | BG24: - | BO24: - | BS24: - | CD24: 義務的経費計 | CR24: 26195359 | CZ24: 47.4 | DD24: 16272758 | DL24: 16011325 | DW24: 55.8
B25: (一般財源計) | R25: 29765841 | Z25: 50.1 | AD25: 28646701 | AL25: 99.8 | AP25: 法定外目的税 | BG25: - | BO25: - | BS25: - | CD25: 人件費 | CR25: 8267920 | CZ25: 15 | DD25: 7667481 | DL25: 7580338 | DW25: 26.4
B26: 交通安全対策特別交付金 | R26: 10466 | Z26: 0 | AD26: 10466 | AL26: 0 | AP26: 旧法による税 | BG26: - | BO26: - | BS26: - | CD26: うち職員給 | CR26: 5199472 | CZ26: 9.4 | DD26: 4866064 | DL26: - | DW26: -
B27: 分担金・負担金 | R27: 244073 | Z27: 0.4 | AD27: - | AL27: - | AP27: 合計 | BG27: 15894260 | BO27: 100 | BS27: 292819 | CD27: 扶助費 | CR27: 12721190 | CZ27: 23 | DD27: 3586123 | DL27: 3411833 | DW27: 11.9
B28: 使用料 | R28: 390488 | Z28: 0.7 | AD28: 36820 | AL28: 0.1 | CD28: 公債費 | CR28: 5206249 | CZ28: 9.4 | DD28: 5019154 | DL28: 5019154 | DW28: 17.5
B29: 手数料 | R29: 219900 | Z29: 0.4 | AD29: - | AL29: - | CD29: 内訳 | CF29: 元利償還金 | CR29: 5206249 | CZ29: 9.4 | DD29: 5019154 | DL29: 5019154 | DW29: 17.5
B30: 国庫支出金 | R30: 11724479 | Z30: 19.7 | AD30: - | AL30: - | AP30: 区分 | BG30: 令和4年度 | BR30: 令和3年度 | CF30: うち元金 | CR30: 4903310 | CZ30: 8.9 | DD30: 4727208 | DL30: 4727208 | DW30: 16.5
B31: 国有提供交付金(特別区財調交付金) | R31: - | Z31: - | AD31: - | AL31: - | AP31: 徴収率 (％) | AT31: 現年 | AX31: 合計 | BG31: 99.6 | BM31: 98 | BR31: 99.5 | BX31: 97.9 | CF31: うち利子 | CR31: 302939 | CZ31: 0.5 | DD31: 291946 | DL31: 291946 | DW31: 1
B32: 都道府県支出金 | R32: 4102912 | Z32: 6.9 | AD32: - | AL32: - | AU32: ・計 | AX32: 市町村民税 | BG32: 99.6 | BM32: 98.9 | BR32: 99.6 | BX32: 98.8 | CF32: 一時借入金利子 | CR32: - | CZ32: - | DD32: - | DL32: - | DW32: -
B33: 財産収入 | R33: 98715 | Z33: 0.2 | AD33: 12670 | AL33: 0 | AX33: 純固定資産税 | BG33: 99.5 | BM33: 97.3 | BR33: 99.4 | BX33: 97.2 | CD33: その他の経費 | CR33: 21021059 | CZ33: 38 | DD33: 16781942 | DL33: 9599805 | DW33: 33.4
B34: 寄附金 | R34: 906213 | Z34: 1.5 | AD34: - | AL34: - | CD34: 物件費 | CR34: 7001994 | CZ34: 12.7 | DD34: 5305849 | DL34: 4240701 | DW34: 14.8
B35: 繰入金 | R35: 2990201 | Z35: 5 | AD35: - | AL35: - | AQ35: 公営事業等への繰出 | BG35: 国民健康保険事業会計の状況 | CD35: 維持補修費 | CR35: 634111 | CZ35: 1.1 | DD35: 452315 | DL35: 452315 | DW35: 1.6
B36: 繰越金 | R36: 3839949 | Z36: 6.5 | AD36: - | AL36: - | AQ36: 合計 | AZ36: 6580330 | BG36: 実質収支 | BV36: 30385 | CD36: 補助費等 | CR36: 4657113 | CZ36: 8.4 | DD36: 3856984 | DL36: 1230062 | DW36: 4.3
B37: 諸収入 | R37: 1323919 | Z37: 2.2 | AD37: 4267 | AL37: 0 | AQ37: 下水道 | AZ37: 1498502 | BG37: 再差引収支 | BV37: -161233 | CD37: うち一部事務組合負担金 | CR37: 51545 | CZ37: 0.1 | DD37: 51545 | DL37: 51545 | DW37: 0.2
B38: 地方債 | R38: 3830300 | Z38: 6.4 | AD38: - | AL38: - | AQ38: 病院 | AZ38: 243685 | BG38: 加入世帯数(世帯) | BV38: 14309 | CD38: 繰出金 | CR38: 4763822 | CZ38: 8.6 | DD38: 3820150 | DL38: 3483759 | DW38: 12.1
B39: うち減収補塡債(特例分) | R39: - | Z39: - | AD39: - | AL39: - | AQ39: 上水道 | AZ39: 74321 | BG39: 被保険者数(人) | BV39: 21571 | CD39: 積立金 | CR39: 2779188 | CZ39: 5 | DD39: 2773503 | DL39: - | DW39: -
B40: うち臨時財政対策債 | R40: - | Z40: - | AD40: - | AL40: - | AQ40: 観光施設 | AZ40: 71505 | BG40: 被保険者 1人当り | BM40: 保険税(料)収入額 | BV40: 91 | CD40: 投資・出資金・貸付金 | CR40: 1184831 | CZ40: 2.1 | DD40: 573141 | DL40: 192968 | DW40: 0.7
...

Sheet 各会計、関係団体の財政状況及び健全化判断比率
A2: (2)各会計、関係団体の財政状況及び健全化判断比率（市町村） | DJ2: 令和4年度 | DQ2: 愛媛県西条市
A4: 一般会計等の財政状況（単位：百万円） | BQ4: 地方公社・第三セクター等の経営状況及び地方公共団体の財政的支援の状況（単位：百万円）
A5: 会計名 | Q5: 歳入 | V5: 歳出 | AA5: 形式収支 | AF5: 実質収支 | AK5: 他会計等 からの 繰入金 | AP5: 地方債 現在高 | AU5: 備考 | BQ5: 地方公社・第三セクター等名 | CH5: 経常損益 | CM5: 純資産又は 正味財産 | CR5: 当該団体 からの 出資金 | CW5: 当該団体 からの 補助金 | DB5: 当該団体 からの 貸付金 | DG5: 当該団体からの債務保証に係る債務残高 | DL5: 当該団体からの損失補償に係る債務残高 | DQ5: 一般会計等 負担見込額 | DV5: 備考
A7: 1 | B7: 一般会計 | Q7: 59371 | V7: 55190 | AA7: 4181 | AF7: 3984 | AK7: 2833 | AP7: 60545 | BQ7: 1 | BS7: 西条市産業情報支援センター | CH7: 7 | CM7: 29 | CR7: 10 | CW7: - | DB7: - | DG7: - | DL7: - | DQ7: -
A8: 2 | B8: ひうち地域振興整備事業特別会計 | Q8: 108 | V8: 108 | AA8: - | AF8: - | AK8: 74 | AP8: 21 | BQ8: 2 | BS8: 西条市スポーツ協会 | CH8: 0 | CM8: 100 | CR8: 25 | CW8: 1 | DB8: - | DG8: - | DL8: - | DQ8: -
A9: 3 | B9: 土地開発事業特別会計 | Q9: 500 | V9: 500 | AA9: - | AF9: - | AK9: 500 | AP9: - | BQ9: 3 | BS9: 西条市土地開発公社 | CH9: 0 | CM9: 108 | CR9: 5 | CW9: - | DB9: 23 | DG9: - | DL9: - | DQ9: 21
A10: 4 | B10: 畑地かん水事業特別会計 | Q10: 23 | V10: 10 | AA10: 13 | AF10: 13 | AK10: - | AP10: - | BQ10: 4 | BS10: 佐伯記念育英会 | CH10: -3 | CM10: 185 | CR10: 250 | CW10: - | DB10: - | DG10: - | DL10: - | DQ10: -
A11: 5 | BQ11: 5 | BS11: ソラヤマいしづち | CH11: 22 | CM11: 33 | CR11: 5 | CW11: 62 | DB11: - | DG11: - | DL11: - | DQ11: -
A12: 6 | BQ12: 6
A13: 7 | BQ13: 7
A14: 8 | BQ14: 8
A15: 9 | BQ15: 9
A16: 10 | BQ16: 10
A17: 11 | BQ17: 11
A18: 12 | BQ18: 12
A19: 13 | BQ19: 13
A20: 14 | BQ20: 14
A21: 15 | BQ21: 15
A22: 16 | AZ22: 実質赤字額 | BQ22: 16
A23: 計 | B23: 一般会計等（純計） | Q23: 59447 | V23: 55253 | AA23: 4194 | AF23: 3997 | AP23: 60566 | AZ23: - | BQ23: 17
A24: ※一般会計等（純計）は、各会計の相互間の繰入・繰出等の重複を控除したものであり、各会計の合計と一致しない場合がある。 | BQ24: 18
A25: 公営企業会計等の財政状況（単位：百万円） | BQ25: 19
A26: 会計名 | Q26: 総収益 （歳入） | V26: 総費用 （歳出） | AA26: 純損益 （形式収支） | AF26: 資金剰余額 /不足額 （実質収支） | AK26: 他会計等 からの 繰入金 | AP26: 企業債 （地方債） 現在高 | AU26: 左のうち 一般会計等 繰入見込額 | AZ26: 資金不足 比率 | BE26: 備考 | BQ26: 20
BQ27: 21
A28: 1 | B28: 国民健康保険特別会計 | Q28: 11985 | V28: 11954 | AA28: 30 | AF28: 30 | AK28: 1144 | AP28: - | AU28: - | BQ28: 22
A29: 2 | B29: 介護保険特別会計 | Q29: 11963 | V29: 11666 | AA29: 297 | AF29: 297 | AK29: 1777 | AP29: - | AU29: - | BQ29: 23
A30: 3 | B30: 後期高齢者医療保険特別会計 | Q30: 1626 | V30: 1592 | AA30: 35 | AF30: 35 | AK30: 511 | AP30: - | AU30: - | BQ30: 24
A31: 4 | B31: 水道事業会計 | Q31: 1006 | V31: 900 | AA31: 106 | AF31: 1446 | AK31: 74 | AP31: 5249 | AU31: 756 | BE31: 法適用企業 | BQ31: 25
A32: 5 | B32: 病院事業会計 | Q32: 147 | V32: 180 | AA32: -33 | AF32: 10 | AK32: 244 | AP32: 740 | AU32: 732 | BE32: 法適用企業 | BQ32: 26
A33: 6 | B33: 公共下水道事業会計 | Q33: 2331 | V33: 2384 | AA33: -53 | AF33: 232 | AK33: 1499 | AP33: 18137 | AU33: 13186 | BE33: 法適用企業 | BQ33: 27
A34: 7 | B34: 港湾上屋事業特別会計 | Q34: 6 | V34: 5 | AA34: 0 | AF34: 0 | AK34: - | AP34: - | AU34: - | BE34: 法非適用企業 | BQ34: 28
A35: 8 | B35: 小松地域交流事業特別会計 | Q35: 18 | V35: 18 | AA35: 0 | AF35: - | AK35: 18 | AP35: - | AU35: - | BE35: 法非適用企業 | BQ35: 29
A36: 9 | B36: 本谷温泉事業特別会計 | Q36: 55 | V36: 55 | AA36: 0 | AF36: - | AK36: 54 | AP36: 155 | AU36: 149 | BE36: 法非適用企業 | BQ36: 30
A37: 10 | BQ37: 31
A38: 11 | BQ38: 32
A39: 12 | BQ39: 33
A40: 13 | BQ40: 34
A41: 14 | BQ41: 35
A42: 15 | BQ42: 36
A43: 16 | BQ43: 37
...

Sheet 財政比較分析表 

Sheet 経常経費分析表（経常収支比率の分析）

Sheet 経常経費分析表（人件費・公債費・普通建設事業費の分析）
A5: 人件費及び人件費に準ずる費用の分析
AK6: 人件費及び人件費に準ずる費用
AO7: 当該団体決算額 （千円） | AQ7: 人口1人当たり決算額
AP8: 当該団体（円） | AQ8: 類似団体平均（円） | AR8: 対比（％）
AK9: 人件費 | AO9: 8267920 | AP9: 78283 | AQ9: 66247 | AR9: 18.2
AK10: 一部事務組合負担金（補助費等） | AO10: 5222 | AP10: 49 | AQ10: 4001 | AR10: -98.8
AK11: 公営企業（法適）等に対する繰出し（補助費等） | AO11: 75845 | AP11: 718 | AQ11: 2117 | AR11: -66.1
AK12: 公営企業（法適）等に対する繰出し（投資及び出資金・貸付金） | AO12: - | AP12: - | AQ12: 23 | AR12: -
AK13: 公営企業（法非適）等に対する繰出し（繰出金） | AO13: 201982 | AP13: 1912 | AQ13: 2449 | AR13: -21.9
AK14: 事業費支弁に係る職員の人件費（投資的経費） | AO14: 278947 | AP14: 2641 | AQ14: 1636 | AR14: 61.4
AK15: ▲退職金 | AO15: -502216 | AP15: -4755 | AQ15: -3889 | AR15: 22.3
AK16: 合計 | AO16: 8327700 | AP16: 78849 | AQ16: 72585 | AR16: 8.6
AK19: 参考
AO20: 当該団体 | AP20: 類似団体平均 | AQ20: 対比（差引）
AK21: 人口1,000人当たり職員数（人） | AO21: 8.35 | AP21: 6.82 | AQ21: 1.53
AK22: ラスパイレス指数 | AO22: 94.4 | AP22: 99.4 | AQ22: -5
A26: （注）人口については、各調査対象年度の1月1日現在の住民基本台帳に登載されている人口に基づいている。
A28: 公債費及び公債費に準ずる費用の分析
AK29: 公債費及び公債費に準ずる費用（実質公債費比率の構成要素）
AO30: 当該団体決算額 （千円） | AQ30: 人口1人当たり決算額
AP31: 当該団体（円） | AQ31: 類似団体平均（円） | AR31: 対比（％）
AK32: 元利償還金の額 （繰上償還額等を除く） | AO32: 5206249 | AP32: 49294 | AQ32: 38122 | AR32: 29.3
AK33: 積立不足額を考慮して算定した額 | AO33: - | AP33: - | AQ33: - | AR33: -
AK34: 満期一括償還地方債の一年当たりの元金償還金に相当するもの （年度割相当額） | AO34: - | AP34: - | AQ34: 19 | AR34: -
AK35: 公営企業に要する経費の財源とする地方債の償還の財源に 充てたと認められる繰入金 | AO35: 1445391 | AP35: 13685 | AQ35: 11292 | AR35: 21.2
AK36: 一部事務組合等の起こした地方債に充てたと認められる 補助金又は負担金 | AO36: - | AP36: - | AQ36: 1617 | AR36: -
AK37: 公債費に準ずる債務負担行為に係るもの | AO37: 37945 | AP37: 359 | AQ37: 410 | AR37: -12.4
AK38: 一時借入金利子 （同一団体における会計間の現金運用に係る利子は除く） | AO38: - | AP38: - | AQ38: 1 | AR38: -
AK39: ▲特定財源の額 | AO39: -187095 | AP39: -1771 | AQ39: -6908 | AR39: -74.4
AK40: ▲地方債に係る元利償還金及び準元利償還金に要する経費として 普通交付税の額の算定に用いる基準財政需要額に算入された額 | AO40: -4585888 | AP40: -43420 | AQ40: -33487 | AR40: 29.7
AK41: 合計 | AO41: 1916602 | AP41: 18147 | AQ41: 11065 | AR41: 64
AK42: ※令和5年度中に市町村合併した団体で、合併前の団体ごとの決算に基づく実質公債費比率を算出していない団体については、グラフを表記しない。
A47: （参考） 普通建設事業費の分析
AK48: 普通建設事業費
AM49: 当該団体決算額 （千円） | AN49: 人口１人当たり決算額
AN50: 当該団体(円) | AO50: 増減率(%)(A) | AP50: 類似団体平均(円) | AQ50: 増減率(%)(B) | AR50: (A)-(B)
AK51: H30 | AM51: 8427185 | AN51: 76834 | AO51: 2.3 | AP51: 66863 | AQ51: -2.6 | AR51: 4.9
AL52: うち単独分 | AM52: 3913559 | AN52: 35681 | AO52: 0.9 | AP52: 32770 | AQ52: 1.4 | AR52: -0.5
AK53: R01 | AM53: 11204470 | AN53: 102830 | AO53: 33.8 | AP53: 72051 | AQ53: 7.8 | AR53: 26
AL54: うち単独分 | AM54: 3261651 | AN54: 29934 | AO54: -16.1 | AP54: 34140 | AQ54: 4.2 | AR54: -20.3
...

Sheet 性質別歳出決算分析表（住民一人当たりのコスト）

Sheet 目的別歳出決算分析表（住民一人当たりのコスト）

Sheet 実質収支比率等に係る経年分析
J45: 標準財政規模比（％）
B46: 区分 | E46: 年度 | F46: H30 | G46: R01 | H46: R02 | I46: R03 | J46: R04
C47: 財政調整基金残高 | F47: 18.56 | G47: 18.64 | H47: 16.38 | I47: 19.17 | J47: 19.55
C48: 実質収支額 | F48: 9.08 | G48: 8.79 | H48: 10.99 | I48: 12.9 | J48: 13.84
C49: 実質単年度収支 | F49: ▲ 0.81 | G49: ▲ 0.37 | H49: 0.64 | I49: 6.22 | J49: 0.69

Sheet 連結実質赤字比率に係る赤字・黒字の構成分析
J32: 標準財政規模比（％）
B33: 会計 | E33: 年度 | F33: H30 | G33: R01 | H33: R02 | I33: R03 | J33: R04
C34: 一般会計 | F34: 9.03 | G34: 8.74 | H34: 10.94 | I34: 12.85 | J34: 13.79
C35: 水道事業会計 | F35: 5.74 | G35: 5.95 | H35: 5.76 | I35: 5.31 | J35: 5
C36: 介護保険特別会計 | F36: - | G36: - | H36: - | I36: - | J36: 1.02
C37: 公共下水道事業会計 | F37: - | G37: - | H37: 0.81 | I37: 0.83 | J37: 0.8
C38: 後期高齢者医療保険特別会計 | F38: 0.1 | G38: 0.11 | H38: 0.1 | I38: 0.11 | J38: 0.12
C39: 国民健康保険特別会計 | F39: 1.44 | G39: 0.59 | H39: 0.36 | I39: 0.29 | J39: 0.1
C40: 畑地かん水事業特別会計 | F40: 0.04 | G40: 0.04 | H40: 0.04 | I40: 0.04 | J40: 0.04
C41: 病院事業会計 | F41: 0.04 | G41: 0.04 | H41: 0.04 | I41: 0.03 | J41: 0.03
C42: その他会計（赤字） | F42: - | G42: - | H42: - | I42: - | J42: -
C43: その他会計（黒字） | F43: 0.54 | G43: 1.05 | H43: 0.74 | I43: 1.14 | J43: 0
B44: ※令和5年度中に市町村合併した団体で、合併前の団体ごとの決算に基づく連結実質赤字比率を算出していない団体については、グラフを表記しない。

Sheet 実質公債費比率（分子）の構造
O43: （百万円）
B44: 分子の構造 | J44: 年度 | K44: H30 | L44: R01 | M44: R02 | N44: R03 | O44: R04
B45: 元利償還金等(A) | E45: 元利償還金 | K45: 4135 | L45: 4126 | M45: 4418 | N45: 4780 | O45: 5206
E46: 減債基金積立不足算定額※2 | K46: - | L46: - | M46: - | N46: - | O46: -
E47: 満期一括償還地方債に係る年度割相当額 | K47: - | L47: - | M47: - | N47: - | O47: -
E48: 公営企業債の元利償還金に対する繰入金 | K48: 1597 | L48: 1465 | M48: 1580 | N48: 1428 | O48: 1445
E49: 組合等が起こした地方債の元利償還金に対する負担金等 | K49: - | L49: - | M49: - | N49: - | O49: -
E50: 債務負担行為に基づく支出額 | K50: 9 | L50: 30 | M50: 38 | N50: 38 | O50: 38
E51: 一時借入金の利子 | K51: - | L51: - | M51: - | N51: - | O51: -
B52: 算入公債費等(B) | E52: 算入公債費等 | K52: 4225 | L52: 4211 | M52: 4391 | N52: 4571 | O52: 4773
B53: (A)－(B) | E53: 実質公債費比率の分子 | K53: 1516 | L53: 1410 | M53: 1645 | N53: 1675 | O53: 1916
B54: ※1 令和5年度中に市町村合併した団体で、合併前の団体ごとの決算に基づく実質公債費比率を算出していない団体については、グラフを表記しない。
B55: ※2 減債基金積立不足算定額=(C)×(１－(D)/(E))
B56: （参考） | O56: （百万円）
J57: 年度 | K57: H30 | L57: R01 | M57: R02 | N57: R03 | O57: R04
B58: 減債基金 積立状況等（注） | D58: 満期一括償還地方債に係る実質償還額又は理論償還額のいずれか少ない額(C) | K58: - | L58: - | M58: - | N58: - | O58: -
D59: 前年度末減債基金残高(D) | K59: - | L59: - | M59: - | N59: - | O59: -
D60: 前年度末減債基金積立相当額(E) | K60: - | L60: - | M60: - | N60: - | O60: -
D61: （注）減債基金のうち、実質公債費比率の算定に用いる満期一括償還地方債の償還の財源に係るもののみを記入。
D62: 減債基金積立金の年度を超えた一般会計又は特別会計への貸付額は控除して記入。

Sheet 将来負担比率（分子）の構造
M39: （百万円）
B40: 分子の構造 | H40: 年度 | I40: H30 | J40: R01 | K40: R02 | L40: R03 | M40: R04
B41: 将来負担額(A) | E41: 一般会計等に係る地方債の現在高 | I41: 56500 | J41: 61947 | K41: 62070 | L41: 61639 | M41: 60566
E42: 債務負担行為に基づく支出予定額 | I42: - | J42: - | K42: 1 | L42: 0 | M42: -
E43: 公営企業債等繰入見込額 | I43: 18596 | J43: 18326 | K43: 18065 | L43: 16067 | M43: 14822
E44: 組合等負担等見込額 | I44: - | J44: - | K44: - | L44: - | M44: -
E45: 退職手当負担見込額 | I45: 6491 | J45: 6411 | K45: 6774 | L45: 6452 | M45: 6434
E46: 設立法人等の負債額等負担見込額 | I46: 21 | J46: 21 | K46: 21 | L46: 21 | M46: 21
E47: うち、健全化法施行規則附則第三条に係る負担見込額 | I47: - | J47: - | K47: - | L47: - | M47: -
E48: 連結実質赤字額 | I48: - | J48: - | K48: - | L48: - | M48: -
E49: 組合等連結実質赤字額負担見込額 | I49: - | J49: - | K49: - | L49: - | M49: -
B50: 充当可能財源等(B) | E50: 充当可能基金 | I50: 10036 | J50: 10196 | K50: 10263 | L50: 12629 | M50: 12708
E51: 充当可能特定歳入 | I51: 974 | J51: 1278 | K51: 2359 | L51: 2205 | M51: 2072
E52: 基準財政需要額算入見込額 | I52: 53591 | J52: 56156 | K52: 55795 | L52: 55525 | M52: 54558
B53: (A)－(B) | E53: 将来負担比率の分子 | I53: 17007 | J53: 19076 | K53: 18514 | L53: 13820 | M53: 12506
B54: ※令和5年度中に市町村合併した団体で、合併前の団体ごとの決算に基づく将来負担比率を算出していない団体については、グラフを表記しない。

Sheet 基金残高に係る経年分析
H53: （百万円）
B54: 区分 | E54: 年度 | F54: R02 | G54: R03 | H54: R04
C55: 財政調整基金 | F55: 4556 | G55: 5645 | H55: 5647
C56: 減債基金 | F56: 2102 | G56: 3314 | H56: 3186
C57: その他特定目的基金 | F57: 4544 | G57: 4495 | H57: 5033
C58: 合併振興基金 | F58: 3513 | G58: 3516 | H58: 3517
C59: 公共施設再編整備基金 | F59: - | G59: - | H59: 600
C60: 福祉基金 | F60: 387 | G60: 373 | H60: 357
C61: 森林整備基金 | F61: 80 | G61: 111 | H61: 135
C62: 水産資源育成基金 | F62: 131 | G62: 128 | H62: 124
C63: 基金残高合計 | F63: 11202 | G63: 13455 | H63: 13865

Sheet 公会計指標分析・財政指標組合せ分析表
B41: 将来負担比率及び有形固定資産減価償却率の組合せによる分析
AN42: 分析欄
AN43: 将来負担比率について前年度と比較すると3.7ポイント改善している。これは、臨時財政対策債の減少や市債発行額の抑制を図ったことなどにより、将来負担額が減少したことによる。 しかし、類似団体平均と比べ、将来負担比率、有形固定資産減価償却率ともに悪い状況であり、他の類似団体と比べて老朽化した施設の割合や、将来負担額（地方債残高等）が多くなっている。 今後、大型事業の実施に伴い地方債の借入が見込まれるため、施設の適正配置や有効活用を進めるとともに、事業実施方法や事業規模等の精査により地方債借入額を抑制し、健全で持続可能な財政運営に努める。
AN49: ( 参考 ）
BP50: H30 | BX50: R01 | CF50: R02 | CN50: R03 | CV50: R04
AN51: 当該団体値 | BB51: 将来負担比率 | BP51: 73.4 | BX51: 82.9 | CF51: 78.4 | CN51: 55.1 | CV51: 51.4
BB53: 有形固定資産減価償却率 | BP53: 66 | BX53: 64.5 | CF53: 65.1 | CN53: 66.4 | CV53: 67.2
AN55: 類似団体内平均値 | BB55: 将来負担比率 | BP55: 47.2 | BX55: 49.5 | CF55: 46.9 | CN55: 4.1 | CV55: 0
BB57: 有形固定資産減価償却率 | BP57: 59.8 | BX57: 60.9 | CF57: 61.2 | CN57: 63 | CV57: 64.2
B63: 将来負担比率及び実質公債費比率の組合せによる分析
AN64: 分析欄
AN65: 本市と類似団体平均を比較すると、実質公債費比率及び将来負担比率ともに、悪い状況にある。早期健全化基準は、実質公債費比率が25％以上、将来負担比率が350％以上であることから、本市の指標は大幅に下回っているものの、近年の大型事業の実施に伴い借り入れた合併特例債等の償還が本格化することから、公債費の増加により実質公債費比率が上昇していくことが想定される。 地方債借入額の抑制を図るとともに、減債基金の積立てによる償還財源の確保など、公債費の適正化と将来負担の軽減に努める。
AN71: ( 参考 ）
BP72: H30 | BX72: R01 | CF72: R02 | CN72: R03 | CV72: R04
AN73: 当該団体値 | BB73: 将来負担比率 | BP73: 73.4 | BX73: 82.9 | CF73: 78.4 | CN73: 55.1 | CV73: 51.4
BB75: 実質公債費比率 | BP75: 6.8 | BX75: 6.4 | CF75: 6.5 | CN75: 6.5 | CV75: 7.1
AN77: 類似団体内平均値 | BB77: 将来負担比率 | BP77: 47.2 | BX77: 49.5 | CF77: 46.9 | CN77: 4.1 | CV77: 0
BB79: 実質公債費比率 | BP79: 7.8 | BX79: 7.6 | CF79: 7.2 | CN79: 5.1 | CV79: 5.2

Sheet 施設類型別ストック情報分析表①

Sheet 施設類型別ストック情報分析表②

Sheet データシート
D2: 当該団体(円) | F2: 類似団体内平均(円)
A3: H30 | D3: 76834 | F3: 66863
D4: 35681 | F4: 32770
A5: R01 | D5: 102830 | F5: 72051
D6: 29934 | F6: 34140
A7: R02 | D7: 50790 | F7: 72756
D8: 21100 | F8: 32117
A9: R03 | D9: 48307 | F9: 49217
D10: 18130 | F10: 27232
A11: R04 | D11: 75809 | F11: 49211
D12: 20006 | F12: 28367
D13: 70914 | F13: 62020
D14: 24970 | F14: 30925
A17: 実質収支比率等に係る経年分析
B18: =実質収支比率等に係る経年分析!F$46 -> H30 | C18: =実質収支比率等に係る経年分析!G$46 -> R01 | D18: =実質収支比率等に係る経年分析!H$46 -> R02 | E18: =実質収支比率等に係る経年分析!I$46 -> R03 | F18: =実質収支比率等に係る経年分析!J$46 -> R04
A19: 実質収支額 | B19: =ROUND(VALUE(SUBSTITUTE(実質収支比率等に係る経年分析!F$48,"▲","-")),2) -> 9.08 | C19: =ROUND(VALUE(SUBSTITUTE(実質収支比率等に係る経年分析!G$48,"▲","-")),2) -> 8.79 | D19: =ROUND(VALUE(SUBSTITUTE(実質収支比率等に係る経年分析!H$48,"▲","-")),2) -> 10.99 | E19: =ROUND(VALUE(SUBSTITUTE(実質収支比率等に係る経年分析!I$48,"▲","-")),2) -> 12.9 | F19: =ROUND(VALUE(SUBSTITUTE(実質収支比率等に係る経年分析!J$48,"▲","-")),2) -> 13.84
A20: 財政調整基金残高 | B20: =ROUND(VALUE(SUBSTITUTE(実質収支比率等に係る経年分析!F$47,"▲","-")),2) -> 18.56 | C20: =ROUND(VALUE(SUBSTITUTE(実質収支比率等に係る経年分析!G$47,"▲","-")),2) -> 18.64 | D20: =ROUND(VALUE(SUBSTITUTE(実質収支比率等に係る経年分析!H$47,"▲","-")),2) -> 16.38 | E20: =ROUND(VALUE(SUBSTITUTE(実質収支比率等に係る経年分析!I$47,"▲","-")),2) -> 19.17 | F20: =ROUND(VALUE(SUBSTITUTE(実質収支比率等に係る経年分析!J$47,"▲","-")),2) -> 19.55
A21: 実質単年度収支 | B21: =IF(ISNUMBER(VALUE(SUBSTITUTE(実質収支比率等に係る経年分析!F$49,"▲","-"))),ROUND(VALUE(SUBSTITUTE(実質収支比率等に係る経年分析!F$49,"▲","-")),2),NA()) -> -0.81 | C21: =IF(ISNUMBER(VALUE(SUBSTITUTE(実質収支比率等に係る経年分析!G$49,"▲","-"))),ROUND(VALUE(SUBSTITUTE(実質収支比率等に係る経年分析!G$49,"▲","-")),2),NA()) -> -0.37 | D21: =IF(ISNUMBER(VALUE(SUBSTITUTE(実質収支比率等に係る経年分析!H$49,"▲","-"))),ROUND(VALUE(SUBSTITUTE(実質収支比率等に係る経年分析!H$49,"▲","-")),2),NA()) -> 0.64 | E21: =IF(ISNUMBER(VALUE(SUBSTITUTE(実質収支比率等に係る経年分析!I$49,"▲","-"))),ROUND(VALUE(SUBSTITUTE(実質収支比率等に係る経年分析!I$49,"▲","-")),2),NA()) -> 6.22 | F21: =IF(ISNUMBER(VALUE(SUBSTITUTE(実質収支比率等に係る経年分析!J$49,"▲","-"))),ROUND(VALUE(SUBSTITUTE(実質収支比率等に係る経年分析!J$49,"▲","-")),2),NA()) -> 0.69
A24: 連結実質赤字比率に係る赤字・黒字の構成分析
B25: =連結実質赤字比率に係る赤字・黒字の構成分析!F$33 -> H30 | D25: =連結実質赤字比率に係る赤字・黒字の構成分析!G$33 -> R01 | F25: =連結実質赤字比率に係る赤字・黒字の構成分析!H$33 -> R02 | H25: =連結実質赤字比率に係る赤字・黒字の構成分析!I$33 -> R03 | J25: =連結実質赤字比率に係る赤字・黒字の構成分析!J$33 -> R04
B26: 赤字額 | C26: 黒字額 | D26: 赤字額 | E26: 黒字額 | F26: 赤字額 | G26: 黒字額 | H26: 赤字額 | I26: 黒字額 | J26: 赤字額 | K26: 黒字額
A27: =IF(連結実質赤字比率に係る赤字・黒字の構成分析!C$43="",NA(),連結実質赤字比率に係る赤字・黒字の構成分析!C$43) -> その他会計（黒字） | B27: =IF(ROUND(VALUE(SUBSTITUTE(連結実質赤字比率に係る赤字・黒字の構成分析!F$43,"▲", "-")), 2) < 0, ABS(ROUND(VALUE(SUBSTITUTE(連結実質赤字比率に係る赤字・黒字の構成分析!F$43,"▲", "-")), 2)), NA()) -> #N/A | C27: =IF(ROUND(VALUE(SUBSTITUTE(連結実質赤字比率に係る赤字・黒字の構成分析!F$43,"▲", "-")), 2) >= 0, ABS(ROUND(VALUE(SUBSTITUTE(連結実質赤字比率に係る赤字・黒字の構成分析!F$43,"▲", "-")), 2)), NA()) -> 0.54 | D27: =IF(ROUND(VALUE(SUBSTITUTE(連結実質赤字比率に係る赤字・黒字の構成分析!G$43,"▲", "-")), 2) < 0, ABS(ROUND(VALUE(SUBSTITUTE(連結実質赤字比率に係る赤字・黒字の構成分析!G$43,"▲", "-")), 2)), NA()) -> #N/A | E27: =IF(ROUND(VALUE(SUBSTITUTE(連結実質赤字比率に係る赤字・黒字の構成分析!G$43,"▲", "-")), 2) >= 0, ABS(ROUND(VALUE(SUBSTITUTE(連結実質赤字比率に係る赤字・黒字の構成分析!G$43,"▲", "-")), 2)), NA()) -> 1.05 | F27: =IF(ROUND(VALUE(SUBSTITUTE(連結実質赤字比率に係る赤字・黒字の構成分析!H$43,"▲", "-")), 2) < 0, ABS(ROUND(VALUE(SUBSTITUTE(連結実質赤字比率に係る赤字・黒字の構成分析!H$43,"▲", "-")), 2)), NA()) -> #N/A | G27: =IF(ROUND(VALUE(SUBSTITUTE(連結実質赤字比率に係る赤字・黒字の構成分析!H$43,"▲", "-")), 2) >= 0, ABS(ROUND(VALUE(SUBSTITUTE(連結実質赤字比率に係る赤字・黒字の構成分析!H$43,"▲", "-")), 2)), NA()) -> 0.74 | H27: =IF(ROUND(VALUE(SUBSTITUTE(連結実質赤字比率に係る赤字・黒字の構成分析!I$43,"▲", "-")), 2) < 0, ABS(ROUND(VALUE(SUBSTITUTE(連結実質赤字比率に係る赤字・黒字の構成分析!I$43,"▲", "-")), 2)), NA()) -> #N/A | I27: =IF(ROUND(VALUE(SUBSTITUTE(連結実質赤字比率に係る赤字・黒字の構成分析!I$43,"▲", "-")), 2) >= 0, ABS(ROUND(VALUE(SUBSTITUTE(連結実質赤字比率に係る赤字・黒字の構成分析!I$43,"▲", "-")), 2)), NA()) -> 1.14 | J27: =IF(ROUND(VALUE(SUBSTITUTE(連結実質赤字比率に係る赤字・黒字の構成分析!J$43,"▲", "-")), 2) < 0, ABS(ROUND(VALUE(SUBSTITUTE(連結実質赤字比率に係る赤字・黒字の構成分析!J$43,"▲", "-")), 2)), NA()) -> #N/A | K27: =IF(ROUND(VALUE(SUBSTITUTE(連結実質赤字比率に係る赤字・黒字の構成分析!J$43,"▲", "-")), 2) >= 0, ABS(ROUND(VALUE(SUBSTITUTE(連結実質赤字比率に係る赤字・黒字の構成分析!J$43,"▲", "-")), 2)), NA()) -> 0
A28: =IF(連結実質赤字比率に係る赤字・黒字の構成分析!C$42="",NA(),連結実質赤字比率に係る赤字・黒字の構成分析!C$42) -> その他会計（赤字） | B28: =IF(ROUND(VALUE(SUBSTITUTE(連結実質赤字比率に係る赤字・黒字の構成分析!F$42,"▲", "-")), 2) < 0, ABS(ROUND(VALUE(SUBSTITUTE(連結実質赤字比率に係る赤字・黒字の構成分析!F$42,"▲", "-")), 2)), NA()) -> #VALUE! | C28: =IF(ROUND(VALUE(SUBSTITUTE(連結実質赤字比率に係る赤字・黒字の構成分析!F$42,"▲", "-")), 2) >= 0, ABS(ROUND(VALUE(SUBSTITUTE(連結実質赤字比率に係る赤字・黒字の構成分析!F$42,"▲", "-")), 2)), NA()) -> #VALUE! | D28: =IF(ROUND(VALUE(SUBSTITUTE(連結実質赤字比率に係る赤字・黒字の構成分析!G$42,"▲", "-")), 2) < 0, ABS(ROUND(VALUE(SUBSTITUTE(連結実質赤字比率に係る赤字・黒字の構成分析!G$42,"▲", "-")), 2)), NA()) -> #VALUE! | E28: =IF(ROUND(VALUE(SUBSTITUTE(連結実質赤字比率に係る赤字・黒字の構成分析!G$42,"▲", "-")), 2) >= 0, ABS(ROUND(VALUE(SUBSTITUTE(連結実質赤字比率に係る赤字・黒字の構成分析!G$42,"▲", "-")), 2)), NA()) -> #VALUE! | F28: =IF(ROUND(VALUE(SUBSTITUTE(連結実質赤字比率に係る赤字・黒字の構成分析!H$42,"▲", "-")), 2) < 0, ABS(ROUND(VALUE(SUBSTITUTE(連結実質赤字比率に係る赤字・黒字の構成分析!H$42,"▲", "-")), 2)), NA()) -> #VALUE! | G28: =IF(ROUND(VALUE(SUBSTITUTE(連結実質赤字比率に係る赤字・黒字の構成分析!H$42,"▲", "-")), 2) >= 0, ABS(ROUND(VALUE(SUBSTITUTE(連結実質赤字比率に係る赤字・黒字の構成分析!H$42,"▲", "-")), 2)), NA()) -> #VALUE! | H28: =IF(ROUND(VALUE(SUBSTITUTE(連結実質赤字比率に係る赤字・黒字の構成分析!I$42,"▲", "-")), 2) < 0, ABS(ROUND(VALUE(SUBSTITUTE(連結実質赤字比率に係る赤字・黒字の構成分析!I$42,"▲", "-")), 2)), NA()) -> #VALUE! | I28: =IF(ROUND(VALUE(SUBSTITUTE(連結実質赤字比率に係る赤字・黒字の構成分析!I$42,"▲", "-")), 2) >= 0, ABS(ROUND(VALUE(SUBSTITUTE(連結実質赤字比率に係る赤字・黒字の構成分析!I$42,"▲", "-")), 2)), NA()) -> #VALUE! | J28: =IF(ROUND(VALUE(SUBSTITUTE(連結実質赤字比率に係る赤字・黒字の構成分析!J$42,"▲", "-")), 2) < 0, ABS(ROUND(VALUE(SUBSTITUTE(連結実質赤字比率に係る赤字・黒字の構成分析!J$42,"▲", "-")), 2)), NA()) -> #VALUE! | K28: =IF(ROUND(VALUE(SUBSTITUTE(連結実質赤字比率に係る赤字・黒字の構成分析!J$42,"▲", "-")), 2) >= 0, ABS(ROUND(VALUE(SUBSTITUTE(連結実質赤字比率に係る赤字・黒字の構成分析!J$42,"▲", "-")), 2)), NA()) -> #VALUE!
A29: =IF(連結実質赤字比率に係る赤字・黒字の構成分析!C$41="",NA(),連結実質赤字比率に係る赤字・黒字の構成分析!C$41) -> 病院事業会計 | B29: =IF(ROUND(VALUE(SUBSTITUTE(連結実質赤字比率に係る赤字・黒字の構成分析!F$41,"▲", "-")), 2) < 0, ABS(ROUND(VALUE(SUBSTITUTE(連結実質赤字比率に係る赤字・黒字の構成分析!F$41,"▲", "-")), 2)), NA()) -> #N/A | C29: =IF(ROUND(VALUE(SUBSTITUTE(連結実質赤字比率に係る赤字・黒字の構成分析!F$41,"▲", "-")), 2) >= 0, ABS(ROUND(VALUE(SUBSTITUTE(連結実質赤字比率に係る赤字・黒字の構成分析!F$41,"▲", "-")), 2)), NA()) -> 0.04 | D29: =IF(ROUND(VALUE(SUBSTITUTE(連結実質赤字比率に係る赤字・黒字の構成分析!G$41,"▲", "-")), 2) < 0, ABS(ROUND(VALUE(SUBSTITUTE(連結実質赤字比率に係る赤字・黒字の構成分析!G$41,"▲", "-")), 2)), NA()) -> #N/A | E29: =IF(ROUND(VALUE(SUBSTITUTE(連結実質赤字比率に係る赤字・黒字の構成分析!G$41,"▲", "-")), 2) >= 0, ABS(ROUND(VALUE(SUBSTITUTE(連結実質赤字比率に係る赤字・黒字の構成分析!G$41,"▲", "-")), 2)), NA()) -> 0.04 | F29: =IF(ROUND(VALUE(SUBSTITUTE(連結実質赤字比率に係る赤字・黒字の構成分析!H$41,"▲", "-")), 2) < 0, ABS(ROUND(VALUE(SUBSTITUTE(連結実質赤字比率に係る赤字・黒字の構成分析!H$41,"▲", "-")), 2)), NA()) -> #N/A | G29: =IF(ROUND(VALUE(SUBSTITUTE(連結実質赤字比率に係る赤字・黒字の構成分析!H$41,"▲", "-")), 2) >= 0, ABS(ROUND(VALUE(SUBSTITUTE(連結実質赤字比率に係る赤字・黒字の構成分析!H$41,"▲", "-")), 2)), NA()) -> 0.04 | H29: =IF(ROUND(VALUE(SUBSTITUTE(連結実質赤字比率に係る赤字・黒字の構成分析!I$41,"▲", "-")), 2) < 0, ABS(ROUND(VALUE(SUBSTITUTE(連結実質赤字比率に係る赤字・黒字の構成分析!I$41,"▲", "-")), 2)), NA()) -> #N/A | I29: =IF(ROUND(VALUE(SUBSTITUTE(連結実質赤字比率に係る赤字・黒字の構成分析!I$41,"▲", "-")), 2) >= 0, ABS(ROUND(VALUE(SUBSTITUTE(連結実質赤字比率に係る赤字・黒字の構成分析!I$41,"▲", "-")), 2)), NA()) -> 0.03 | J29: =IF(ROUND(VALUE(SUBSTITUTE(連結実質赤字比率に係る赤字・黒字の構成分析!J$41,"▲", "-")), 2) < 0, ABS(ROUND(VALUE(SUBSTITUTE(連結実質赤字比率に係る赤字・黒字の構成分析!J$41,"▲", "-")), 2)), NA()) -> #N/A | K29: =IF(ROUND(VALUE(SUBSTITUTE(連結実質赤字比率に係る赤字・黒字の構成分析!J$41,"▲", "-")), 2) >= 0, ABS(ROUND(VALUE(SUBSTITUTE(連結実質赤字比率に係る赤字・黒字の構成分析!J$41,"▲", "-")), 2)), NA()) -> 0.03
A30: =IF(連結実質赤字比率に係る赤字・黒字の構成分析!C$40="",NA(),連結実質赤字比率に係る赤字・黒字の構成分析!C$40) -> 畑地かん水事業特別会計 | B30: =IF(ROUND(VALUE(SUBSTITUTE(連結実質赤字比率に係る赤字・黒字の構成分析!F$40,"▲", "-")), 2) < 0, ABS(ROUND(VALUE(SUBSTITUTE(連結実質赤字比率に係る赤字・黒字の構成分析!F$40,"▲", "-")), 2)), NA()) -> #N/A | C30: =IF(ROUND(VALUE(SUBSTITUTE(連結実質赤字比率に係る赤字・黒字の構成分析!F$40,"▲", "-")), 2) >= 0, ABS(ROUND(VALUE(SUBSTITUTE(連結実質赤字比率に係る赤字・黒字の構成分析!F$40,"▲", "-")), 2)), NA()) -> 0.04 | D30: =IF(ROUND(VALUE(SUBSTITUTE(連結実質赤字比率に係る赤字・黒字の構成分析!G$40,"▲", "-")), 2) < 0, ABS(ROUND(VALUE(SUBSTITUTE(連結実質赤字比率に係る赤字・黒字の構成分析!G$40,"▲", "-")), 2)), NA()) -> #N/A | E30: =IF(ROUND(VALUE(SUBSTITUTE(連結実質赤字比率に係る赤字・黒字の構成分析!G$40,"▲", "-")), 2) >= 0, ABS(ROUND(VALUE(SUBSTITUTE(連結実質赤字比率に係る赤字・黒字の構成分析!G$40,"▲", "-")), 2)), NA()) -> 0.04 | F30: =IF(ROUND(VALUE(SUBSTITUTE(連結実質赤字比率に係る赤字・黒字の構成分析!H$40,"▲", "-")), 2) < 0, ABS(ROUND(VALUE(SUBSTITUTE(連結実質赤字比率に係る赤字・黒字の構成分析!H$40,"▲", "-")), 2)), NA()) -> #N/A | G30: =IF(ROUND(VALUE(SUBSTITUTE(連結実質赤字比率に係る赤字・黒字の構成分析!H$40,"▲", "-")), 2) >= 0, ABS(ROUND(VALUE(SUBSTITUTE(連結実質赤字比率に係る赤字・黒字の構成分析!H$40,"▲", "-")), 2)), NA()) -> 0.04 | H30: =IF(ROUND(VALUE(SUBSTITUTE(連結実質赤字比率に係る赤字・黒字の構成分析!I$40,"▲", "-")), 2) < 0, ABS(ROUND(VALUE(SUBSTITUTE(連結実質赤字比率に係る赤字・黒字の構成分析!I$40,"▲", "-")), 2)), NA()) -> #N/A | I30: =IF(ROUND(VALUE(SUBSTITUTE(連結実質赤字比率に係る赤字・黒字の構成分析!I$40,"▲", "-")), 2) >= 0, ABS(ROUND(VALUE(SUBSTITUTE(連結実質赤字比率に係る赤字・黒字の構成分析!I$40,"▲", "-")), 2)), NA()) -> 0.04 | J30: =IF(ROUND(VALUE(SUBSTITUTE(連結実質赤字比率に係る赤字・黒字の構成分析!J$40,"▲", "-")), 2) < 0, ABS(ROUND(VALUE(SUBSTITUTE(連結実質赤字比率に係る赤字・黒字の構成分析!J$40,"▲", "-")), 2)), NA()) -> #N/A | K30: =IF(ROUND(VALUE(SUBSTITUTE(連結実質赤字比率に係る赤字・黒字の構成分析!J$40,"▲", "-")), 2) >= 0, ABS(ROUND(VALUE(SUBSTITUTE(連結実質赤字比率に係る赤字・黒字の構成分析!J$40,"▲", "-")), 2)), NA()) -> 0.04
A31: =IF(連結実質赤字比率に係る赤字・黒字の構成分析!C$39="",NA(),連結実質赤字比率に係る赤字・黒字の構成分析!C$39) -> 国民健康保険特別会計 | B31: =IF(ROUND(VALUE(SUBSTITUTE(連結実質赤字比率に係る赤字・黒字の構成分析!F$39,"▲", "-")), 2) < 0, ABS(ROUND(VALUE(SUBSTITUTE(連結実質赤字比率に係る赤字・黒字の構成分析!F$39,"▲", "-")), 2)), NA()) -> #N/A | C31: =IF(ROUND(VALUE(SUBSTITUTE(連結実質赤字比率に係る赤字・黒字の構成分析!F$39,"▲", "-")), 2) >= 0, ABS(ROUND(VALUE(SUBSTITUTE(連結実質赤字比率に係る赤字・黒字の構成分析!F$39,"▲", "-")), 2)), NA()) -> 1.44 | D31: =IF(ROUND(VALUE(SUBSTITUTE(連結実質赤字比率に係る赤字・黒字の構成分析!G$39,"▲", "-")), 2) < 0, ABS(ROUND(VALUE(SUBSTITUTE(連結実質赤字比率に係る赤字・黒字の構成分析!G$39,"▲", "-")), 2)), NA()) -> #N/A | E31: =IF(ROUND(VALUE(SUBSTITUTE(連結実質赤字比率に係る赤字・黒字の構成分析!G$39,"▲", "-")), 2) >= 0, ABS(ROUND(VALUE(SUBSTITUTE(連結実質赤字比率に係る赤字・黒字の構成分析!G$39,"▲", "-")), 2)), NA()) -> 0.59 | F31: =IF(ROUND(VALUE(SUBSTITUTE(連結実質赤字比率に係る赤字・黒字の構成分析!H$39,"▲", "-")), 2) < 0, ABS(ROUND(VALUE(SUBSTITUTE(連結実質赤字比率に係る赤字・黒字の構成分析!H$39,"▲", "-")), 2)), NA()) -> #N/A | G31: =IF(ROUND(VALUE(SUBSTITUTE(連結実質赤字比率に係る赤字・黒字の構成分析!H$39,"▲", "-")), 2) >= 0, ABS(ROUND(VALUE(SUBSTITUTE(連結実質赤字比率に係る赤字・黒字の構成分析!H$39,"▲", "-")), 2)), NA()) -> 0.36 | H31: =IF(ROUND(VALUE(SUBSTITUTE(連結実質赤字比率に係る赤字・黒字の構成分析!I$39,"▲", "-")), 2) < 0, ABS(ROUND(VALUE(SUBSTITUTE(連結実質赤字比率に係る赤字・黒字の構成分析!I$39,"▲", "-")), 2)), NA()) -> #N/A | I31: =IF(ROUND(VALUE(SUBSTITUTE(連結実質赤字比率に係る赤字・黒字の構成分析!I$39,"▲", "-")), 2) >= 0, ABS(ROUND(VALUE(SUBSTITUTE(連結実質赤字比率に係る赤字・黒字の構成分析!I$39,"▲", "-")), 2)), NA()) -> 0.29 | J31: =IF(ROUND(VALUE(SUBSTITUTE(連結実質赤字比率に係る赤字・黒字の構成分析!J$39,"▲", "-")), 2) < 0, ABS(ROUND(VALUE(SUBSTITUTE(連結実質赤字比率に係る赤字・黒字の構成分析!J$39,"▲", "-")), 2)), NA()) -> #N/A | K31: =IF(ROUND(VALUE(SUBSTITUTE(連結実質赤字比率に係る赤字・黒字の構成分析!J$39,"▲", "-")), 2) >= 0, ABS(ROUND(VALUE(SUBSTITUTE(連結実質赤字比率に係る赤字・黒字の構成分析!J$39,"▲", "-")), 2)), NA()) -> 0.1
A32: =IF(連結実質赤字比率に係る赤字・黒字の構成分析!C$38="",NA(),連結実質赤字比率に係る赤字・黒字の構成分析!C$38) -> 後期高齢者医療保険特別会計 | B32: =IF(ROUND(VALUE(SUBSTITUTE(連結実質赤字比率に係る赤字・黒字の構成分析!F$38,"▲", "-")), 2) < 0, ABS(ROUND(VALUE(SUBSTITUTE(連結実質赤字比率に係る赤字・黒字の構成分析!F$38,"▲", "-")), 2)), NA()) -> #N/A | C32: =IF(ROUND(VALUE(SUBSTITUTE(連結実質赤字比率に係る赤字・黒字の構成分析!F$38,"▲", "-")), 2) >= 0, ABS(ROUND(VALUE(SUBSTITUTE(連結実質赤字比率に係る赤字・黒字の構成分析!F$38,"▲", "-")), 2)), NA()) -> 0.1 | D32: =IF(ROUND(VALUE(SUBSTITUTE(連結実質赤字比率に係る赤字・黒字の構成分析!G$38,"▲", "-")), 2) < 0, ABS(ROUND(VALUE(SUBSTITUTE(連結実質赤字比率に係る赤字・黒字の構成分析!G$38,"▲", "-")), 2)), NA()) -> #N/A | E32: =IF(ROUND(VALUE(SUBSTITUTE(連結実質赤字比率に係る赤字・黒字の構成分析!G$38,"▲", "-")), 2) >= 0, ABS(ROUND(VALUE(SUBSTITUTE(連結実質赤字比率に係る赤字・黒字の構成分析!G$38,"▲", "-")), 2)), NA()) -> 0.11 | F32: =IF(ROUND(VALUE(SUBSTITUTE(連結実質赤字比率に係る赤字・黒字の構成分析!H$38,"▲", "-")), 2) < 0, ABS(ROUND(VALUE(SUBSTITUTE(連結実質赤字比率に係る赤字・黒字の構成分析!H$38,"▲", "-")), 2)), NA()) -> #N/A | G32: =IF(ROUND(VALUE(SUBSTITUTE(連結実質赤字比率に係る赤字・黒字の構成分析!H$38,"▲", "-")), 2) >= 0, ABS(ROUND(VALUE(SUBSTITUTE(連結実質赤字比率に係る赤字・黒字の構成分析!H$38,"▲", "-")), 2)), NA()) -> 0.1 | H32: =IF(ROUND(VALUE(SUBSTITUTE(連結実質赤字比率に係る赤字・黒字の構成分析!I$38,"▲", "-")), 2) < 0, ABS(ROUND(VALUE(SUBSTITUTE(連結実質赤字比率に係る赤字・黒字の構成分析!I$38,"▲", "-")), 2)), NA()) -> #N/A | I32: =IF(ROUND(VALUE(SUBSTITUTE(連結実質赤字比率に係る赤字・黒字の構成分析!I$38,"▲", "-")), 2) >= 0, ABS(ROUND(VALUE(SUBSTITUTE(連結実質赤字比率に係る赤字・黒字の構成分析!I$38,"▲", "-")), 2)), NA()) -> 0.11 | J32: =IF(ROUND(VALUE(SUBSTITUTE(連結実質赤字比率に係る赤字・黒字の構成分析!J$38,"▲", "-")), 2) < 0, ABS(ROUND(VALUE(SUBSTITUTE(連結実質赤字比率に係る赤字・黒字の構成分析!J$38,"▲", "-")), 2)), NA()) -> #N/A | K32: =IF(ROUND(VALUE(SUBSTITUTE(連結実質赤字比率に係る赤字・黒字の構成分析!J$38,"▲", "-")), 2) >= 0, ABS(ROUND(VALUE(SUBSTITUTE(連結実質赤字比率に係る赤字・黒字の構成分析!J$38,"▲", "-")), 2)), NA()) -> 0.12
A33: =IF(連結実質赤字比率に係る赤字・黒字の構成分析!C$37="",NA(),連結実質赤字比率に係る赤字・黒字の構成分析!C$37) -> 公共下水道事業会計 | B33: =IF(ROUND(VALUE(SUBSTITUTE(連結実質赤字比率に係る赤字・黒字の構成分析!F$37,"▲", "-")), 2) < 0, ABS(ROUND(VALUE(SUBSTITUTE(連結実質赤字比率に係る赤字・黒字の構成分析!F$37,"▲", "-")), 2)), NA()) -> #VALUE! | C33: =IF(ROUND(VALUE(SUBSTITUTE(連結実質赤字比率に係る赤字・黒字の構成分析!F$37,"▲", "-")), 2) >= 0, ABS(ROUND(VALUE(SUBSTITUTE(連結実質赤字比率に係る赤字・黒字の構成分析!F$37,"▲", "-")), 2)), NA()) -> #VALUE! | D33: =IF(ROUND(VALUE(SUBSTITUTE(連結実質赤字比率に係る赤字・黒字の構成分析!G$37,"▲", "-")), 2) < 0, ABS(ROUND(VALUE(SUBSTITUTE(連結実質赤字比率に係る赤字・黒字の構成分析!G$37,"▲", "-")), 2)), NA()) -> #VALUE! | E33: =IF(ROUND(VALUE(SUBSTITUTE(連結実質赤字比率に係る赤字・黒字の構成分析!G$37,"▲", "-")), 2) >= 0, ABS(ROUND(VALUE(SUBSTITUTE(連結実質赤字比率に係る赤字・黒字の構成分析!G$37,"▲", "-")), 2)), NA()) -> #VALUE! | F33: =IF(ROUND(VALUE(SUBSTITUTE(連結実質赤字比率に係る赤字・黒字の構成分析!H$37,"▲", "-")), 2) < 0, ABS(ROUND(VALUE(SUBSTITUTE(連結実質赤字比率に係る赤字・黒字の構成分析!H$37,"▲", "-")), 2)), NA()) -> #N/A | G33: =IF(ROUND(VALUE(SUBSTITUTE(連結実質赤字比率に係る赤字・黒字の構成分析!H$37,"▲", "-")), 2) >= 0, ABS(ROUND(VALUE(SUBSTITUTE(連結実質赤字比率に係る赤字・黒字の構成分析!H$37,"▲", "-")), 2)), NA()) -> 0.81 | H33: =IF(ROUND(VALUE(SUBSTITUTE(連結実質赤字比率に係る赤字・黒字の構成分析!I$37,"▲", "-")), 2) < 0, ABS(ROUND(VALUE(SUBSTITUTE(連結実質赤字比率に係る赤字・黒字の構成分析!I$37,"▲", "-")), 2)), NA()) -> #N/A | I33: =IF(ROUND(VALUE(SUBSTITUTE(連結実質赤字比率に係る赤字・黒字の構成分析!I$37,"▲", "-")), 2) >= 0, ABS(ROUND(VALUE(SUBSTITUTE(連結実質赤字比率に係る赤字・黒字の構成分析!I$37,"▲", "-")), 2)), NA()) -> 0.83 | J33: =IF(ROUND(VALUE(SUBSTITUTE(連結実質赤字比率に係る赤字・黒字の構成分析!J$37,"▲", "-")), 2) < 0, ABS(ROUND(VALUE(SUBSTITUTE(連結実質赤字比率に係る赤字・黒字の構成分析!J$37,"▲", "-")), 2)), NA()) -> #N/A | K33: =IF(ROUND(VALUE(SUBSTITUTE(連結実質赤字比率に係る赤字・黒字の構成分析!J$37,"▲", "-")), 2) >= 0, ABS(ROUND(VALUE(SUBSTITUTE(連結実質赤字比率に係る赤字・黒字の構成分析!J$37,"▲", "-")), 2)), NA()) -> 0.8
A34: =IF(連結実質赤字比率に係る赤字・黒字の構成分析!C$36="",NA(),連結実質赤字比率に係る赤字・黒字の構成分析!C$36) -> 介護保険特別会計 | B34: =IF(ROUND(VALUE(SUBSTITUTE(連結実質赤字比率に係る赤字・黒字の構成分析!F$36,"▲", "-")), 2) < 0, ABS(ROUND(VALUE(SUBSTITUTE(連結実質赤字比率に係る赤字・黒字の構成分析!F$36,"▲", "-")), 2)), NA()) -> #VALUE! | C34: =IF(ROUND(VALUE(SUBSTITUTE(連結実質赤字比率に係る赤字・黒字の構成分析!F$36,"▲", "-")), 2) >= 0, ABS(ROUND(VALUE(SUBSTITUTE(連結実質赤字比率に係る赤字・黒字の構成分析!F$36,"▲", "-")), 2)), NA()) -> #VALUE! | D34: =IF(ROUND(VALUE(SUBSTITUTE(連結実質赤字比率に係る赤字・黒字の構成分析!G$36,"▲", "-")), 2) < 0, ABS(ROUND(VALUE(SUBSTITUTE(連結実質赤字比率に係る赤字・黒字の構成分析!G$36,"▲", "-")), 2)), NA()) -> #VALUE! | E34: =IF(ROUND(VALUE(SUBSTITUTE(連結実質赤字比率に係る赤字・黒字の構成分析!G$36,"▲", "-")), 2) >= 0, ABS(ROUND(VALUE(SUBSTITUTE(連結実質赤字比率に係る赤字・黒字の構成分析!G$36,"▲", "-")), 2)), NA()) -> #VALUE! | F34: =IF(ROUND(VALUE(SUBSTITUTE(連結実質赤字比率に係る赤字・黒字の構成分析!H$36,"▲", "-")), 2) < 0, ABS(ROUND(VALUE(SUBSTITUTE(連結実質赤字比率に係る赤字・黒字の構成分析!H$36,"▲", "-")), 2)), NA()) -> #VALUE! | G34: =IF(ROUND(VALUE(SUBSTITUTE(連結実質赤字比率に係る赤字・黒字の構成分析!H$36,"▲", "-")), 2) >= 0, ABS(ROUND(VALUE(SUBSTITUTE(連結実質赤字比率に係る赤字・黒字の構成分析!H$36,"▲", "-")), 2)), NA()) -> #VALUE! | H34: =IF(ROUND(VALUE(SUBSTITUTE(連結実質赤字比率に係る赤字・黒字の構成分析!I$36,"▲", "-")), 2) < 0, ABS(ROUND(VALUE(SUBSTITUTE(連結実質赤字比率に係る赤字・黒字の構成分析!I$36,"▲", "-")), 2)), NA()) -> #VALUE! | I34: =IF(ROUND(VALUE(SUBSTITUTE(連結実質赤字比率に係る赤字・黒字の構成分析!I$36,"▲", "-")), 2) >= 0, ABS(ROUND(VALUE(SUBSTITUTE(連結実質赤字比率に係る赤字・黒字の構成分析!I$36,"▲", "-")), 2)), NA()) -> #VALUE! | J34: =IF(ROUND(VALUE(SUBSTITUTE(連結実質赤字比率に係る赤字・黒字の構成分析!J$36,"▲", "-")), 2) < 0, ABS(ROUND(VALUE(SUBSTITUTE(連結実質赤字比率に係る赤字・黒字の構成分析!J$36,"▲", "-")), 2)), NA()) -> #N/A | K34: =IF(ROUND(VALUE(SUBSTITUTE(連結実質赤字比率に係る赤字・黒字の構成分析!J$36,"▲", "-")), 2) >= 0, ABS(ROUND(VALUE(SUBSTITUTE(連結実質赤字比率に係る赤字・黒字の構成分析!J$36,"▲", "-")), 2)), NA()) -> 1.02
A35: =IF(連結実質赤字比率に係る赤字・黒字の構成分析!C$35="",NA(),連結実質赤字比率に係る赤字・黒字の構成分析!C$35) -> 水道事業会計 | B35: =IF(ROUND(VALUE(SUBSTITUTE(連結実質赤字比率に係る赤字・黒字の構成分析!F$35,"▲", "-")), 2) < 0, ABS(ROUND(VALUE(SUBSTITUTE(連結実質赤字比率に係る赤字・黒字の構成分析!F$35,"▲", "-")), 2)), NA()) -> #N/A | C35: =IF(ROUND(VALUE(SUBSTITUTE(連結実質赤字比率に係る赤字・黒字の構成分析!F$35,"▲", "-")), 2) >= 0, ABS(ROUND(VALUE(SUBSTITUTE(連結実質赤字比率に係る赤字・黒字の構成分析!F$35,"▲", "-")), 2)), NA()) -> 5.74 | D35: =IF(ROUND(VALUE(SUBSTITUTE(連結実質赤字比率に係る赤字・黒字の構成分析!G$35,"▲", "-")), 2) < 0, ABS(ROUND(VALUE(SUBSTITUTE(連結実質赤字比率に係る赤字・黒字の構成分析!G$35,"▲", "-")), 2)), NA()) -> #N/A | E35: =IF(ROUND(VALUE(SUBSTITUTE(連結実質赤字比率に係る赤字・黒字の構成分析!G$35,"▲", "-")), 2) >= 0, ABS(ROUND(VALUE(SUBSTITUTE(連結実質赤字比率に係る赤字・黒字の構成分析!G$35,"▲", "-")), 2)), NA()) -> 5.95 | F35: =IF(ROUND(VALUE(SUBSTITUTE(連結実質赤字比率に係る赤字・黒字の構成分析!H$35,"▲", "-")), 2) < 0, ABS(ROUND(VALUE(SUBSTITUTE(連結実質赤字比率に係る赤字・黒字の構成分析!H$35,"▲", "-")), 2)), NA()) -> #N/A | G35: =IF(ROUND(VALUE(SUBSTITUTE(連結実質赤字比率に係る赤字・黒字の構成分析!H$35,"▲", "-")), 2) >= 0, ABS(ROUND(VALUE(SUBSTITUTE(連結実質赤字比率に係る赤字・黒字の構成分析!H$35,"▲", "-")), 2)), NA()) -> 5.76 | H35: =IF(ROUND(VALUE(SUBSTITUTE(連結実質赤字比率に係る赤字・黒字の構成分析!I$35,"▲", "-")), 2) < 0, ABS(ROUND(VALUE(SUBSTITUTE(連結実質赤字比率に係る赤字・黒字の構成分析!I$35,"▲", "-")), 2)), NA()) -> #N/A | I35: =IF(ROUND(VALUE(SUBSTITUTE(連結実質赤字比率に係る赤字・黒字の構成分析!I$35,"▲", "-")), 2) >= 0, ABS(ROUND(VALUE(SUBSTITUTE(連結実質赤字比率に係る赤字・黒字の構成分析!I$35,"▲", "-")), 2)), NA()) -> 5.31 | J35: =IF(ROUND(VALUE(SUBSTITUTE(連結実質赤字比率に係る赤字・黒字の構成分析!J$35,"▲", "-")), 2) < 0, ABS(ROUND(VALUE(SUBSTITUTE(連結実質赤字比率に係る赤字・黒字の構成分析!J$35,"▲", "-")), 2)), NA()) -> #N/A | K35: =IF(ROUND(VALUE(SUBSTITUTE(連結実質赤字比率に係る赤字・黒字の構成分析!J$35,"▲", "-")), 2) >= 0, ABS(ROUND(VALUE(SUBSTITUTE(連結実質赤字比率に係る赤字・黒字の構成分析!J$35,"▲", "-")), 2)), NA()) -> 5
A36: =IF(連結実質赤字比率に係る赤字・黒字の構成分析!C$34="",NA(),連結実質赤字比率に係る赤字・黒字の構成分析!C$34) -> 一般会計 | B36: =IF(ROUND(VALUE(SUBSTITUTE(連結実質赤字比率に係る赤字・黒字の構成分析!F$34,"▲", "-")), 2) < 0, ABS(ROUND(VALUE(SUBSTITUTE(連結実質赤字比率に係る赤字・黒字の構成分析!F$34,"▲", "-")), 2)), NA()) -> #N/A | C36: =IF(ROUND(VALUE(SUBSTITUTE(連結実質赤字比率に係る赤字・黒字の構成分析!F$34,"▲", "-")), 2) >= 0, ABS(ROUND(VALUE(SUBSTITUTE(連結実質赤字比率に係る赤字・黒字の構成分析!F$34,"▲", "-")), 2)), NA()) -> 9.03 | D36: =IF(ROUND(VALUE(SUBSTITUTE(連結実質赤字比率に係る赤字・黒字の構成分析!G$34,"▲", "-")), 2) < 0, ABS(ROUND(VALUE(SUBSTITUTE(連結実質赤字比率に係る赤字・黒字の構成分析!G$34,"▲", "-")), 2)), NA()) -> #N/A | E36: =IF(ROUND(VALUE(SUBSTITUTE(連結実質赤字比率に係る赤字・黒字の構成分析!G$34,"▲", "-")), 2) >= 0, ABS(ROUND(VALUE(SUBSTITUTE(連結実質赤字比率に係る赤字・黒字の構成分析!G$34,"▲", "-")), 2)), NA()) -> 8.74 | F36: =IF(ROUND(VALUE(SUBSTITUTE(連結実質赤字比率に係る赤字・黒字の構成分析!H$34,"▲", "-")), 2) < 0, ABS(ROUND(VALUE(SUBSTITUTE(連結実質赤字比率に係る赤字・黒字の構成分析!H$34,"▲", "-")), 2)), NA()) -> #N/A | G36: =IF(ROUND(VALUE(SUBSTITUTE(連結実質赤字比率に係る赤字・黒字の構成分析!H$34,"▲", "-")), 2) >= 0, ABS(ROUND(VALUE(SUBSTITUTE(連結実質赤字比率に係る赤字・黒字の構成分析!H$34,"▲", "-")), 2)), NA()) -> 10.94 | H36: =IF(ROUND(VALUE(SUBSTITUTE(連結実質赤字比率に係る赤字・黒字の構成分析!I$34,"▲", "-")), 2) < 0, ABS(ROUND(VALUE(SUBSTITUTE(連結実質赤字比率に係る赤字・黒字の構成分析!I$34,"▲", "-")), 2)), NA()) -> #N/A | I36: =IF(ROUND(VALUE(SUBSTITUTE(連結実質赤字比率に係る赤字・黒字の構成分析!I$34,"▲", "-")), 2) >= 0, ABS(ROUND(VALUE(SUBSTITUTE(連結実質赤字比率に係る赤字・黒字の構成分析!I$34,"▲", "-")), 2)), NA()) -> 12.85 | J36: =IF(ROUND(VALUE(SUBSTITUTE(連結実質赤字比率に係る赤字・黒字の構成分析!J$34,"▲", "-")), 2) < 0, ABS(ROUND(VALUE(SUBSTITUTE(連結実質赤字比率に係る赤字・黒字の構成分析!J$34,"▲", "-")), 2)), NA()) -> #N/A | K36: =IF(ROUND(VALUE(SUBSTITUTE(連結実質赤字比率に係る赤字・黒字の構成分析!J$34,"▲", "-")), 2) >= 0, ABS(ROUND(VALUE(SUBSTITUTE(連結実質赤字比率に係る赤字・黒字の構成分析!J$34,"▲", "-")), 2)), NA()) -> 13.79
A39: 実質公債費比率（分子）の構造
B40: ='実質公債費比率（分子）の構造'!K$44 -> H30 | E40: ='実質公債費比率（分子）の構造'!L$44 -> R01 | H40: ='実質公債費比率（分子）の構造'!M$44 -> R02 | K40: ='実質公債費比率（分子）の構造'!N$44 -> R03 | N40: ='実質公債費比率（分子）の構造'!O$44 -> R04
B41: 元利償還金等 | D41: 算入公債費等 | E41: 元利償還金等 | G41: 算入公債費等 | H41: 元利償還金等 | J41: 算入公債費等 | K41: 元利償還金等 | M41: 算入公債費等 | N41: 元利償還金等 | P41: 算入公債費等
A42: 算入公債費等 | D42: ='実質公債費比率（分子）の構造'!K$52 -> 4225 | G42: ='実質公債費比率（分子）の構造'!L$52 -> 4211 | J42: ='実質公債費比率（分子）の構造'!M$52 -> 4391 | M42: ='実質公債費比率（分子）の構造'!N$52 -> 4571 | P42: ='実質公債費比率（分子）の構造'!O$52 -> 4773
A43: 一時借入金の利子 | B43: ='実質公債費比率（分子）の構造'!K$51 -> - | E43: ='実質公債費比率（分子）の構造'!L$51 -> - | H43: ='実質公債費比率（分子）の構造'!M$51 -> - | K43: ='実質公債費比率（分子）の構造'!N$51 -> - | N43: ='実質公債費比率（分子）の構造'!O$51 -> -
A44: 債務負担行為に基づく支出額 | B44: ='実質公債費比率（分子）の構造'!K$50 -> 9 | E44: ='実質公債費比率（分子）の構造'!L$50 -> 30 | H44: ='実質公債費比率（分子）の構造'!M$50 -> 38 | K44: ='実質公債費比率（分子）の構造'!N$50 -> 38 | N44: ='実質公債費比率（分子）の構造'!O$50 -> 38
A45: 組合等が起こした地方債の元利償還金に対する負担金等 | B45: ='実質公債費比率（分子）の構造'!K$49 -> - | E45: ='実質公債費比率（分子）の構造'!L$49 -> - | H45: ='実質公債費比率（分子）の構造'!M$49 -> - | K45: ='実質公債費比率（分子）の構造'!N$49 -> - | N45: ='実質公債費比率（分子）の構造'!O$49 -> -
A46: 公営企業債の元利償還金に対する繰入金 | B46: ='実質公債費比率（分子）の構造'!K$48 -> 1597 | E46: ='実質公債費比率（分子）の構造'!L$48 -> 1465 | H46: ='実質公債費比率（分子）の構造'!M$48 -> 1580 | K46: ='実質公債費比率（分子）の構造'!N$48 -> 1428 | N46: ='実質公債費比率（分子）の構造'!O$48 -> 1445
A47: 満期一括償還地方債に係る年度割相当額 | B47: ='実質公債費比率（分子）の構造'!K$47 -> - | E47: ='実質公債費比率（分子）の構造'!L$47 -> - | H47: ='実質公債費比率（分子）の構造'!M$47 -> - | K47: ='実質公債費比率（分子）の構造'!N$47 -> - | N47: ='実質公債費比率（分子）の構造'!O$47 -> -
...
